BEGIN:VCALENDAR
VERSION:2.0
PRODID:-//KC Basque Club - ECPv6.15.20//NONSGML v1.0//EN
CALSCALE:GREGORIAN
METHOD:PUBLISH
X-ORIGINAL-URL:https://kcbasqueclub.com
X-WR-CALDESC:Events for KC Basque Club
REFRESH-INTERVAL;VALUE=DURATION:PT1H
X-Robots-Tag:noindex
X-PUBLISHED-TTL:PT1H
BEGIN:VTIMEZONE
TZID:America/Los_Angeles
BEGIN:DAYLIGHT
TZOFFSETFROM:-0800
TZOFFSETTO:-0700
TZNAME:PDT
DTSTART:20240310T100000
END:DAYLIGHT
BEGIN:STANDARD
TZOFFSETFROM:-0700
TZOFFSETTO:-0800
TZNAME:PST
DTSTART:20241103T090000
END:STANDARD
BEGIN:DAYLIGHT
TZOFFSETFROM:-0800
TZOFFSETTO:-0700
TZNAME:PDT
DTSTART:20250309T100000
END:DAYLIGHT
BEGIN:STANDARD
TZOFFSETFROM:-0700
TZOFFSETTO:-0800
TZNAME:PST
DTSTART:20251102T090000
END:STANDARD
BEGIN:DAYLIGHT
TZOFFSETFROM:-0800
TZOFFSETTO:-0700
TZNAME:PDT
DTSTART:20260308T100000
END:DAYLIGHT
BEGIN:STANDARD
TZOFFSETFROM:-0700
TZOFFSETTO:-0800
TZNAME:PST
DTSTART:20261101T090000
END:STANDARD
BEGIN:DAYLIGHT
TZOFFSETFROM:-0800
TZOFFSETTO:-0700
TZNAME:PDT
DTSTART:20270314T100000
END:DAYLIGHT
BEGIN:STANDARD
TZOFFSETFROM:-0700
TZOFFSETTO:-0800
TZNAME:PST
DTSTART:20271107T090000
END:STANDARD
END:VTIMEZONE
BEGIN:VEVENT
DTSTART;TZID=America/Los_Angeles:20251207T103000
DTEND;TZID=America/Los_Angeles:20251207T170000
DTSTAMP:20260425T034550
CREATED:20251009T033821Z
LAST-MODIFIED:20251009T033821Z
UID:2315-1765103400-1765126800@kcbasqueclub.com
SUMMARY:Christmas Party
DESCRIPTION:Come join us for the annual Christmas Party at the KCBC! \nMass @ 10:30am \n 
URL:https://kcbasqueclub.com/event/christmas-party/
END:VEVENT
BEGIN:VEVENT
DTSTART;VALUE=DATE:20260124
DTEND;VALUE=DATE:20260125
DTSTAMP:20260425T034550
CREATED:20260122T151428Z
LAST-MODIFIED:20260122T151604Z
UID:2318-1769212800-1769299199@kcbasqueclub.com
SUMMARY:Annual Mus Tournament
DESCRIPTION:Come join us for our Annual Mus Tournament! \nDoors open at 7:30am \nPlay starts at 8:30am \nReminder\, to play you need to have your Dues paid.
URL:https://kcbasqueclub.com/event/annual-mus-tournament/
END:VEVENT
BEGIN:VEVENT
DTSTART;TZID=America/Los_Angeles:20260206T180000
DTEND;TZID=America/Los_Angeles:20260206T213000
DTSTAMP:20260425T034550
CREATED:20251009T033256Z
LAST-MODIFIED:20251009T034417Z
UID:2312-1770400800-1770413400@kcbasqueclub.com
SUMMARY:Membership Dinner-Save the Date
DESCRIPTION:2026 Membership Dinner at Woolgrowers! \n  \nMore information to come!
URL:https://kcbasqueclub.com/event/membership-dinner-save-the-date/
LOCATION:Wool Growers Restaurant\, 620 E 19th St\, Bakersfield\, CA\, 93305\, United States
END:VEVENT
BEGIN:VEVENT
DTSTART;TZID=America/Los_Angeles:20260321T173000
DTEND;TZID=America/Los_Angeles:20260321T220000
DTSTAMP:20260425T034550
CREATED:20260207T190313Z
LAST-MODIFIED:20260207T190410Z
UID:2370-1774114200-1774130400@kcbasqueclub.com
SUMMARY:Kokein
DESCRIPTION:Come check out Kokein! A basque rock band from Euskadi\, will be playing an acoustical set at KCBC! Come enjoy awesome music and wonderful food prepared by our own Steve Gamboa!
URL:https://kcbasqueclub.com/event/kokein/
END:VEVENT
BEGIN:VEVENT
DTSTART;VALUE=DATE:20260331
DTEND;VALUE=DATE:20260401
DTSTAMP:20260425T034550
CREATED:20260202T014136Z
LAST-MODIFIED:20260207T185207Z
UID:2351-1774915200-1775001599@kcbasqueclub.com
SUMMARY:Scholarship Applications Due
DESCRIPTION:Applications for the 2026 KCBC Scholarships are due March 31st. Applications are Online on the home page.
URL:https://kcbasqueclub.com/event/scholarship-applications-due/
END:VEVENT
BEGIN:VEVENT
DTSTART;VALUE=DATE:20260405
DTEND;VALUE=DATE:20260406
DTSTAMP:20260425T034550
CREATED:20260307T002403Z
LAST-MODIFIED:20260307T002700Z
UID:2449-1775347200-1775433599@kcbasqueclub.com
SUMMARY:Easter Sunday
DESCRIPTION:
URL:https://kcbasqueclub.com/event/easter-sunday/
END:VEVENT
BEGIN:VEVENT
DTSTART;TZID=America/Los_Angeles:20260522T163000
DTEND;TZID=America/Los_Angeles:20260522T190000
DTSTAMP:20260425T034550
CREATED:20260413T012822Z
LAST-MODIFIED:20260413T012839Z
UID:2458-1779467400-1779476400@kcbasqueclub.com
SUMMARY:Basque Film Screening
DESCRIPTION:Karmele (2025) Directed by Asier Altuna (in Euskara with English Subtitles)\nKarmele tells a story of resilience and dignity in the face of oppression during the Spanish Civil War.  Based on the real life experiences of Kermele Urresti and Txomin Letamendi and inspired by the novel Elkarrekin Esnatzeko Ordua (Time to Wake Up Together) by Kirmen Uribe\, Karmele is grounded in Basque experience on both sides of the border.  The film traces the life of a nurse\, Karmele Urresti (played by Jone Laspiur) forced into exile in France.  There\, she falls in love with trumpet player Txomin Letamendi (played by Eneko Sagardoy) and together they build a family as they navigate exile in Paris\, Caracas\, and ultimately back to Bilbao.   \nJoin the director Asier Altuna for a Q&A conversation after the screening.   \n  \nCheck out the link for more information \nhttps://www.csub.edu/basquestudies/
URL:https://kcbasqueclub.com/event/basque-film-screening/
END:VEVENT
BEGIN:VEVENT
DTSTART;VALUE=DATE:20260524
DTEND;VALUE=DATE:20260525
DTSTAMP:20260425T034550
CREATED:20260122T151720Z
LAST-MODIFIED:20260122T151720Z
UID:2320-1779580800-1779667199@kcbasqueclub.com
SUMMARY:2026 Kern County Basque Picnic
DESCRIPTION:
URL:https://kcbasqueclub.com/event/2026-kern-county-basque-picnic/
END:VEVENT
END:VCALENDAR